BEGIN:VCALENDAR
VERSION:2.0
PRODID:-//olphbernardsville.org//eCatholic//EN
X-WR-TIMEZONE:LocalTZ
BEGIN:VTIMEZONE
TZID:LocalTZ
X-LIC-LOCATION:LocalTZ
BEGIN:DAYLIGHT
TZOFFSETFROM:-0500
TZOFFSETTO:-0400
TZNAME:LocalTZ
DTSTART:19700308T020000
RRULE:FREQ=YEARLY;BYMONTH=3;BYDAY=2SU
END:DAYLIGHT
BEGIN:STANDARD
TZOFFSETFROM:-0400
TZOFFSETTO:-0500
TZNAME:LocalTZ
DTSTART:19701101T020000
RRULE:FREQ=YEARLY;BYMONTH=11;BYDAY=1SU
END:STANDARD
END:VTIMEZONE
BEGIN:VEVENT
UID:1566025@olphbernardsville.org
DTSTAMP:20260421T152255Z
DTSTART:20260425T173000
DTEND:20260425T181500
RRULE:FREQ=WEEKLY;BYDAY=SA
SUMMARY:Mass
END:VEVENT
BEGIN:VEVENT
UID:1566026@olphbernardsville.org
DTSTAMP:20260421T152255Z
DTSTART:20260425T193000
DTEND:20260425T201500
RRULE:FREQ=WEEKLY;BYDAY=SA
SUMMARY:Spanish Mass
END:VEVENT
BEGIN:VEVENT
UID:1566031@olphbernardsville.org
DTSTAMP:20260421T152255Z
DTSTART:20260426T073000
DTEND:20260426T080000
RRULE:FREQ=WEEKLY;BYDAY=SU
SUMMARY:Mass
END:VEVENT
BEGIN:VEVENT
UID:1566034@olphbernardsville.org
DTSTAMP:20260421T152255Z
DTSTART:20260426T090000
DTEND:20260426T094500
RRULE:FREQ=WEEKLY;BYDAY=SU
SUMMARY:Mass
END:VEVENT
BEGIN:VEVENT
UID:1566035@olphbernardsville.org
DTSTAMP:20260421T152255Z
DTSTART:20260426T093000
DTEND:20260426T101500
RRULE:FREQ=WEEKLY;BYDAY=SU
SUMMARY:Mass
END:VEVENT
BEGIN:VEVENT
UID:1566038@olphbernardsville.org
DTSTAMP:20260421T152255Z
DTSTART:20260426T104500
DTEND:20260426T113000
RRULE:FREQ=WEEKLY;BYDAY=SU
SUMMARY:Mass
END:VEVENT
BEGIN:VEVENT
UID:1566041@olphbernardsville.org
DTSTAMP:20260421T152255Z
DTSTART:20260426T173000
DTEND:20260426T181500
RRULE:FREQ=WEEKLY;BYDAY=SU
SUMMARY:Mass
END:VEVENT
BEGIN:VEVENT
UID:3061751@olphbernardsville.org
DTSTAMP:20260421T152255Z
DTSTART:20260425T100000
DTEND:20260425T110000
SUMMARY:First Holy Communion Wednesday CCD Class (Mrs. Picarello)
END:VEVENT
BEGIN:VEVENT
UID:3061760@olphbernardsville.org
DTSTAMP:20260421T152255Z
DTSTART:20260502T100000
DTEND:20260502T110000
SUMMARY:First Holy Communion School of St. Elizabeth (Ms. Debrott)
END:VEVENT
BEGIN:VEVENT
UID:3061770@olphbernardsville.org
DTSTAMP:20260421T152255Z
DTSTART:20260502T120000
DTEND:20260502T130000
SUMMARY:First Holy Communion Tuesday CCD Class (Mrs. Jabbour)
END:VEVENT
END:VCALENDAR
